BEGIN:VCALENDAR
VERSION:2.0
PRODID:-//JennEric: A brother (Eric) and sister (Jenn) duo with an acoustic guitar. - ECPv6.15.20//NONSGML v1.0//EN
CALSCALE:GREGORIAN
METHOD:PUBLISH
X-WR-CALNAME:JennEric: A brother (Eric) and sister (Jenn) duo with an acoustic guitar.
X-ORIGINAL-URL:https://jennericduo.com
X-WR-CALDESC:Events for JennEric: A brother (Eric) and sister (Jenn) duo with an acoustic guitar.
REFRESH-INTERVAL;VALUE=DURATION:PT1H
X-Robots-Tag:noindex
X-PUBLISHED-TTL:PT1H
BEGIN:VTIMEZONE
TZID:America/New_York
BEGIN:DAYLIGHT
TZOFFSETFROM:-0500
TZOFFSETTO:-0400
TZNAME:EDT
DTSTART:20240310T070000
END:DAYLIGHT
BEGIN:STANDARD
TZOFFSETFROM:-0400
TZOFFSETTO:-0500
TZNAME:EST
DTSTART:20241103T060000
END:STANDARD
BEGIN:DAYLIGHT
TZOFFSETFROM:-0500
TZOFFSETTO:-0400
TZNAME:EDT
DTSTART:20250309T070000
END:DAYLIGHT
BEGIN:STANDARD
TZOFFSETFROM:-0400
TZOFFSETTO:-0500
TZNAME:EST
DTSTART:20251102T060000
END:STANDARD
BEGIN:DAYLIGHT
TZOFFSETFROM:-0500
TZOFFSETTO:-0400
TZNAME:EDT
DTSTART:20260308T070000
END:DAYLIGHT
BEGIN:STANDARD
TZOFFSETFROM:-0400
TZOFFSETTO:-0500
TZNAME:EST
DTSTART:20261101T060000
END:STANDARD
END:VTIMEZONE
BEGIN:VEVENT
DTSTART;TZID=America/New_York:20251206T180000
DTEND;TZID=America/New_York:20251206T210000
DTSTAMP:20260422T150054
CREATED:20251101T155959Z
LAST-MODIFIED:20251117T194959Z
UID:533-1765044000-1765054800@jennericduo.com
SUMMARY:JENNERIC at Highland House in Dunedin Saturday\, December 6th
DESCRIPTION:We are BACK at this awesome restaurant nestled in the Dunedin Golf Course!  If you are up for some classic rock tunes from the 70’s\, 80’s\, as well as\, music from the 90’s and today\, this brother and sister duo will not disappoint! Join them for some great food and drink! Have a request? If they know it\, they will play it! Unlike other performers\, they never play the same sets. They mix it up each gig and we are learning new songs all the time! See you there! RESERVATIONS RECOMMENDED ***Saturday’s special is PRIME RIB- Let them know you want prime rib when you reserve your table! $25.99 12 oz Prime Rib – includes Soup or Salad\, Baked Potato\, and Mixed Vegetables (4pm – until sold out) \n 
URL:https://jennericduo.com/event/jenneric-at-highland-house-in-dunedin-saturday-dec-6th/
LOCATION:Highland House\, 1050 Palm Blvd\, Dunedin\, FL\, 34698
END:VEVENT
BEGIN:VEVENT
DTSTART;TZID=America/New_York:20251226T183000
DTEND;TZID=America/New_York:20251226T213000
DTSTAMP:20260422T150054
CREATED:20251119T204832Z
LAST-MODIFIED:20251119T204832Z
UID:541-1766773800-1766784600@jennericduo.com
SUMMARY:JENNERIC at the VFW Post & Auxiliary 10093 in Safety Harbor Friday\, December 26th
DESCRIPTION:Santa has deliverd JennEric BACK at the VFW! If you are up for some classic rock tunes from the 70’s\, 80’s\, as well as\, music from the 90’s and today\, this brother and sister duo will not disappoint! Join them for some great food and drink! Have a request? If they know it\, they will play it! Unlike other performers\, they never play the same sets. They mix it up each gig and we are learning new songs all the time! See you there!
URL:https://jennericduo.com/event/jenneric-at-the-vfw-post-auxiliary-10093-in-safety-harbor-friday-dec-26th/
LOCATION:VFW Post & Auxiliary 10093\, 965 Harbor Lake Ct\, Safety Harbor\, 34695\, United States
END:VEVENT
END:VCALENDAR