BEGIN:VCALENDAR
VERSION:2.0
PRODID:-//JennEric: A brother (Eric) and sister (Jenn) duo with an acoustic guitar. - ECPv6.15.20//NONSGML v1.0//EN
CALSCALE:GREGORIAN
METHOD:PUBLISH
X-WR-CALNAME:JennEric: A brother (Eric) and sister (Jenn) duo with an acoustic guitar.
X-ORIGINAL-URL:https://jennericduo.com
X-WR-CALDESC:Events for JennEric: A brother (Eric) and sister (Jenn) duo with an acoustic guitar.
REFRESH-INTERVAL;VALUE=DURATION:PT1H
X-Robots-Tag:noindex
X-PUBLISHED-TTL:PT1H
BEGIN:VTIMEZONE
TZID:America/New_York
BEGIN:DAYLIGHT
TZOFFSETFROM:-0500
TZOFFSETTO:-0400
TZNAME:EDT
DTSTART:20250309T070000
END:DAYLIGHT
BEGIN:STANDARD
TZOFFSETFROM:-0400
TZOFFSETTO:-0500
TZNAME:EST
DTSTART:20251102T060000
END:STANDARD
BEGIN:DAYLIGHT
TZOFFSETFROM:-0500
TZOFFSETTO:-0400
TZNAME:EDT
DTSTART:20260308T070000
END:DAYLIGHT
BEGIN:STANDARD
TZOFFSETFROM:-0400
TZOFFSETTO:-0500
TZNAME:EST
DTSTART:20261101T060000
END:STANDARD
BEGIN:DAYLIGHT
TZOFFSETFROM:-0500
TZOFFSETTO:-0400
TZNAME:EDT
DTSTART:20270314T070000
END:DAYLIGHT
BEGIN:STANDARD
TZOFFSETFROM:-0400
TZOFFSETTO:-0500
TZNAME:EST
DTSTART:20271107T060000
END:STANDARD
END:VTIMEZONE
BEGIN:VEVENT
DTSTART;TZID=America/New_York:20260221T200000
DTEND;TZID=America/New_York:20260221T230000
DTSTAMP:20260420T132459
CREATED:20260205T163052Z
LAST-MODIFIED:20260205T163127Z
UID:554-1771704000-1771714800@jennericduo.com
SUMMARY:JENNERIC at The Living Room on Main in Dunedin Saturday February 21st
DESCRIPTION:JennEric is BACK at the Living Room on Main in Dunedin this month! If you are up for some classic rock tunes from the 70’s\, 80’s\, as well as\, music from the 90’s and today\, this brother and sister duo will not disappoint! Join them for some great food and drink! Have a request? If they know it\, they will play it! Unlike other performers\, they never play the same sets. They mix it up each gig and we are learning new songs all the time! See you there! RESERVATIONS RECOMMENDED
URL:https://jennericduo.com/event/jenneric-at-the-living-room-on-main-in-dunedin-feb-21/
LOCATION:Living Room on Main\, 487 Main St\, Dunedin\, FL\, 34698\, United States
END:VEVENT
END:VCALENDAR